BEGIN:VCALENDAR
VERSION:2.0
PRODID:-//l7calendar
BEGIN:VTIMEZONE
TZID:Europe/Berlin
X-LIC-LOCATION:Europe/Berlin
BEGIN:DAYLIGHT
TZOFFSETFROM:+0100
TZOFFSETTO:+0200
TZNAME:CEST
DTSTART:19700329T020000
RRULE:FREQ=YEARLY;INTERVAL=1;BYDAY=-1SU;BYMONTH=3
END:DAYLIGHT
BEGIN:STANDARD
TZOFFSETFROM:+0200
TZOFFSETTO:+0100
TZNAME:CET
DTSTART:19701025T030000
RRULE:FREQ=YEARLY;INTERVAL=1;BYDAY=-1SU;BYMONTH=10
END:STANDARD
END:VTIMEZONE
BEGIN:VEVENT
UID:2852affd7bd7094e537203d91105bd93@l7calendar
DTSTAMP:20260424T064303
SUMMARY:Zwischen Aufklärung und Moderne. Andeutungen zur Philosophie von Friedrich Schelling.
DTSTART:20241113T093000
DESCRIPTION:Vortrag von Christian Buro im MITTWOCHKREIS JENA
END:VEVENT
END:VCALENDAR