BEGIN:VCALENDAR
VERSION:2.0
PRODID:-//l7calendar
BEGIN:VTIMEZONE
TZID:Europe/Berlin
X-LIC-LOCATION:Europe/Berlin
BEGIN:DAYLIGHT
TZOFFSETFROM:+0100
TZOFFSETTO:+0200
TZNAME:CEST
DTSTART:19700329T020000
RRULE:FREQ=YEARLY;INTERVAL=1;BYDAY=-1SU;BYMONTH=3
END:DAYLIGHT
BEGIN:STANDARD
TZOFFSETFROM:+0200
TZOFFSETTO:+0100
TZNAME:CET
DTSTART:19701025T030000
RRULE:FREQ=YEARLY;INTERVAL=1;BYDAY=-1SU;BYMONTH=10
END:STANDARD
END:VTIMEZONE
BEGIN:VEVENT
UID:1859d95a51b6ee22dff072d9e2cf1f9b@l7calendar
DTSTAMP:20260420T083852
SUMMARY:500 Jahre Evangelisches Gesangbuch – Aufbruch, Freiheit, Emanzipation
DTSTART:20241207T150000
DESCRIPTION:LutherKonferenz & Verleihung der LutherRose 2024
END:VEVENT
END:VCALENDAR