BEGIN:VCALENDAR
VERSION:2.0
PRODID:-//l7calendar
BEGIN:VTIMEZONE
TZID:Europe/Berlin
X-LIC-LOCATION:Europe/Berlin
BEGIN:DAYLIGHT
TZOFFSETFROM:+0100
TZOFFSETTO:+0200
TZNAME:CEST
DTSTART:19700329T020000
RRULE:FREQ=YEARLY;INTERVAL=1;BYDAY=-1SU;BYMONTH=3
END:DAYLIGHT
BEGIN:STANDARD
TZOFFSETFROM:+0200
TZOFFSETTO:+0100
TZNAME:CET
DTSTART:19701025T030000
RRULE:FREQ=YEARLY;INTERVAL=1;BYDAY=-1SU;BYMONTH=10
END:STANDARD
END:VTIMEZONE
BEGIN:VEVENT
UID:f8997b29b78bddadfef64f14bfdf896d@l7calendar
DTSTAMP:20260420T115457
SUMMARY:Im Zeichen der Rose. Ein halbes Jahrhundert Dornburger Kinder- und Rosenfest – Geschichte und Gegenwart
DTSTART:20230104T093000
DESCRIPTION:Filmvorführung und Gespräch mit dem Dokumentarfilmer Uwe Germar im MITTWOCHKREIS JENA
END:VEVENT
END:VCALENDAR