BEGIN:VCALENDAR
VERSION:2.0
PRODID:-//l7calendar
BEGIN:VTIMEZONE
TZID:Europe/Berlin
X-LIC-LOCATION:Europe/Berlin
BEGIN:DAYLIGHT
TZOFFSETFROM:+0100
TZOFFSETTO:+0200
TZNAME:CEST
DTSTART:19700329T020000
RRULE:FREQ=YEARLY;INTERVAL=1;BYDAY=-1SU;BYMONTH=3
END:DAYLIGHT
BEGIN:STANDARD
TZOFFSETFROM:+0200
TZOFFSETTO:+0100
TZNAME:CET
DTSTART:19701025T030000
RRULE:FREQ=YEARLY;INTERVAL=1;BYDAY=-1SU;BYMONTH=10
END:STANDARD
END:VTIMEZONE
BEGIN:VEVENT
UID:251b0cd4d5c9e77be0aaedc66c0d7966@l7calendar
DTSTAMP:20260420T115339
SUMMARY:Patientenverfügung und Vorsorgevollmacht
DTSTART:20221207T190000
DTEND:20221207T203000
DESCRIPTION:In der Reihe "Was bleibt?"
END:VEVENT
END:VCALENDAR