BEGIN:VCALENDAR
VERSION:2.0
PRODID:-//l7calendar
BEGIN:VTIMEZONE
TZID:Europe/Berlin
X-LIC-LOCATION:Europe/Berlin
BEGIN:DAYLIGHT
TZOFFSETFROM:+0100
TZOFFSETTO:+0200
TZNAME:CEST
DTSTART:19700329T020000
RRULE:FREQ=YEARLY;INTERVAL=1;BYDAY=-1SU;BYMONTH=3
END:DAYLIGHT
BEGIN:STANDARD
TZOFFSETFROM:+0200
TZOFFSETTO:+0100
TZNAME:CET
DTSTART:19701025T030000
RRULE:FREQ=YEARLY;INTERVAL=1;BYDAY=-1SU;BYMONTH=10
END:STANDARD
END:VTIMEZONE
BEGIN:VEVENT
UID:0edea2871da37c4c865181142c37350d@l7calendar
DTSTAMP:20260426T005110
SUMMARY:Lutherschriften in Jena und 500 Jahre Bibelübersetzung
DTSTART:20221005T093000
DESCRIPTION:Vortrag von Prof. Dr. Christopher Spehr im MITTWOCHKREIS JENA
END:VEVENT
END:VCALENDAR