BEGIN:VCALENDAR
VERSION:2.0
PRODID:-//l7calendar
BEGIN:VTIMEZONE
TZID:Europe/Berlin
X-LIC-LOCATION:Europe/Berlin
BEGIN:DAYLIGHT
TZOFFSETFROM:+0100
TZOFFSETTO:+0200
TZNAME:CEST
DTSTART:19700329T020000
RRULE:FREQ=YEARLY;INTERVAL=1;BYDAY=-1SU;BYMONTH=3
END:DAYLIGHT
BEGIN:STANDARD
TZOFFSETFROM:+0200
TZOFFSETTO:+0100
TZNAME:CET
DTSTART:19701025T030000
RRULE:FREQ=YEARLY;INTERVAL=1;BYDAY=-1SU;BYMONTH=10
END:STANDARD
END:VTIMEZONE
BEGIN:VEVENT
UID:d846a65629c86f97880b7cdcd306f495@l7calendar
DTSTAMP:20260420T084020
SUMMARY:Enkeltauglich leben
DTSTART:20211103T160000
DTEND:20211103T193000
DESCRIPTION:Wie du spielerisch deine Welt veränderst
END:VEVENT
END:VCALENDAR