BEGIN:VCALENDAR
VERSION:2.0
PRODID:-//l7calendar
BEGIN:VTIMEZONE
TZID:Europe/Berlin
X-LIC-LOCATION:Europe/Berlin
BEGIN:DAYLIGHT
TZOFFSETFROM:+0100
TZOFFSETTO:+0200
TZNAME:CEST
DTSTART:19700329T020000
RRULE:FREQ=YEARLY;INTERVAL=1;BYDAY=-1SU;BYMONTH=3
END:DAYLIGHT
BEGIN:STANDARD
TZOFFSETFROM:+0200
TZOFFSETTO:+0100
TZNAME:CET
DTSTART:19701025T030000
RRULE:FREQ=YEARLY;INTERVAL=1;BYDAY=-1SU;BYMONTH=10
END:STANDARD
END:VTIMEZONE
BEGIN:VEVENT
UID:59d1627b990d1982f2ad1f71a072855c@l7calendar
DTSTAMP:20260419T231155
SUMMARY:Im Garten des Einen. Christliche trifft islamische Mystik
DTSTART:20210924T000000
DTEND:20210924T235900
DESCRIPTION:Interreligiöse Workshops über Gärten und Mystik anlässlich der Bundesgartenschau
END:VEVENT
END:VCALENDAR