BEGIN:VCALENDAR
VERSION:2.0
PRODID:-//l7calendar
BEGIN:VTIMEZONE
TZID:Europe/Berlin
X-LIC-LOCATION:Europe/Berlin
BEGIN:DAYLIGHT
TZOFFSETFROM:+0100
TZOFFSETTO:+0200
TZNAME:CEST
DTSTART:19700329T020000
RRULE:FREQ=YEARLY;INTERVAL=1;BYDAY=-1SU;BYMONTH=3
END:DAYLIGHT
BEGIN:STANDARD
TZOFFSETFROM:+0200
TZOFFSETTO:+0100
TZNAME:CET
DTSTART:19701025T030000
RRULE:FREQ=YEARLY;INTERVAL=1;BYDAY=-1SU;BYMONTH=10
END:STANDARD
END:VTIMEZONE
BEGIN:VEVENT
UID:e4a29c1c88a2b125fb81585355a96a17@l7calendar
DTSTAMP:20260419T220301
SUMMARY:Die Tinte mit der Luther den Teufel bekämpfte
DTSTART:20210921T100000
DTEND:20210921T120000
DESCRIPTION:Eine Veranstaltung des NIKOLAIKOLLEGs EISENACH
END:VEVENT
END:VCALENDAR