BEGIN:VCALENDAR
VERSION:2.0
PRODID:-//l7calendar
BEGIN:VTIMEZONE
TZID:Europe/Berlin
X-LIC-LOCATION:Europe/Berlin
BEGIN:DAYLIGHT
TZOFFSETFROM:+0100
TZOFFSETTO:+0200
TZNAME:CEST
DTSTART:19700329T020000
RRULE:FREQ=YEARLY;INTERVAL=1;BYDAY=-1SU;BYMONTH=3
END:DAYLIGHT
BEGIN:STANDARD
TZOFFSETFROM:+0200
TZOFFSETTO:+0100
TZNAME:CET
DTSTART:19701025T030000
RRULE:FREQ=YEARLY;INTERVAL=1;BYDAY=-1SU;BYMONTH=10
END:STANDARD
END:VTIMEZONE
BEGIN:VEVENT
UID:8d82e1fca6af648e7dd0d0f8f3b37e5f@l7calendar
DTSTAMP:20260425T223752
SUMMARY:Aus aktuellem Anlass: Zum Ausbruch der Gewalt zwischen Israel und der Hamas im Gaza-Streifen
DTSTART:20210526T193000
DESCRIPTION:Online-Seminar per ZOOM mit Uriel Kashi (Jerusalem)
END:VEVENT
END:VCALENDAR