BEGIN:VCALENDAR
VERSION:2.0
PRODID:-//l7calendar
BEGIN:VTIMEZONE
TZID:Europe/Berlin
X-LIC-LOCATION:Europe/Berlin
BEGIN:DAYLIGHT
TZOFFSETFROM:+0100
TZOFFSETTO:+0200
TZNAME:CEST
DTSTART:19700329T020000
RRULE:FREQ=YEARLY;INTERVAL=1;BYDAY=-1SU;BYMONTH=3
END:DAYLIGHT
BEGIN:STANDARD
TZOFFSETFROM:+0200
TZOFFSETTO:+0100
TZNAME:CET
DTSTART:19701025T030000
RRULE:FREQ=YEARLY;INTERVAL=1;BYDAY=-1SU;BYMONTH=10
END:STANDARD
END:VTIMEZONE
BEGIN:VEVENT
UID:b68243b0b0a6a6520eadca0aae11585e@l7calendar
DTSTAMP:20260425T231757
SUMMARY:Lesebühne Krieg und Frieden: Irische und schottische Märchen und Mythen
DTSTART:20250625T190000
DTEND:20250625T210000
DESCRIPTION:In der Reihe KRIEG UND FRIEDEN
END:VEVENT
END:VCALENDAR