BEGIN:VCALENDAR
VERSION:2.0
PRODID:-//l7calendar
BEGIN:VTIMEZONE
TZID:Europe/Berlin
X-LIC-LOCATION:Europe/Berlin
BEGIN:DAYLIGHT
TZOFFSETFROM:+0100
TZOFFSETTO:+0200
TZNAME:CEST
DTSTART:19700329T020000
RRULE:FREQ=YEARLY;INTERVAL=1;BYDAY=-1SU;BYMONTH=3
END:DAYLIGHT
BEGIN:STANDARD
TZOFFSETFROM:+0200
TZOFFSETTO:+0100
TZNAME:CET
DTSTART:19701025T030000
RRULE:FREQ=YEARLY;INTERVAL=1;BYDAY=-1SU;BYMONTH=10
END:STANDARD
END:VTIMEZONE
BEGIN:VEVENT
UID:ccf273a50ebbb34fa4ac49087718efb6@l7calendar
DTSTAMP:20260421T085601
SUMMARY:Das Paradies der Leute. Träume – Bilder – Glaube
DTSTART:20250917T100000
DTEND:20250917T120000
DESCRIPTION:Prof. Dr. Christel Köhle-Hezinger in der AKADEMIE AM VORMITTAG
END:VEVENT
END:VCALENDAR